BEGIN:VCALENDAR
VERSION:2.0
PRODID:-//eventon.com NONSGML v1.0//EN
BEGIN:VEVENT
UID:69e602cd11540
DTSTAMP:20260420T124117
DTSTART:20170910
DTEND:20170910
TZID:UTC
LOCATION:Castelnuovo Berardenga\,  San Gusmè 
SUMMARY:Castelnuovo: finale nazionale del Palio delle Botti a San Gusmè
DESCRIPTION: Sarà il borgo castelnovino di San Gusmè a ospitare la finale del Palio Nazionale delle Botti 2017 promosso dall&#8217;Associazione nazionale Città del Vino. L’appuntamento\,  in programma il prossimo 10 settembre a chiusura della tradizionale Festa del Luca. “San Gusmè e Castelnuovo Berardenga &#8211; afferma Fabrizio Nepi\,  sindaco di Castelnuovo Berardenga[..]
URL:https://www.wechianti.com/events/castelnuovo-finale-nazionale-del-palio-delle-botti-san-gusme/
END:VEVENT
END:VCALENDAR