BEGIN:VCALENDAR
VERSION:2.0
PRODID:-//eventon.com NONSGML v1.0//EN
BEGIN:VEVENT
UID:69e7b6f71f8f6
DTSTAMP:20260421T194215
DTSTART:20170408
DTEND:20170409
TZID:UTC
LOCATION:Villa a Sesta &#8211; Castelnuovo Berardenga 
SUMMARY:Earthquake and solidarity: the “Mercat’Unto” at Easter at Villa a Sesta
DESCRIPTION: April 8 and 9\,  at Villa a Sesta in Castelnuovo Berardenga\,  will be two days dedicated to solidarity with the people hit by the earthquake in central Italy. After the success of the Christmas market\,  volunteers returned to the earthquake zones to directly by food stuffs and other culinary products[..]
URL:https://www.wechianti.com/events/terremoto-solidarieta-villa-sesta-mercatunto-pasqua/
END:VEVENT
END:VCALENDAR