BEGIN:VCALENDAR
VERSION:2.0
PRODID:-//eventon.com NONSGML v1.0//EN
BEGIN:VEVENT
UID:69e7cffe6ca86
DTSTAMP:20260421T212902
DTSTART:20170408
DTEND:20170409
TZID:UTC
LOCATION:Villa a Sesta &#8211; Castelnuovo Berardenga 
SUMMARY:Terremoto e solidarietà: a Villa a Sesta il Mercat'Unto di Pasqua
DESCRIPTION: Tornano a Villa a Sesta (Castelnuovo Berardenga)\,  l&#8217;8 e 9 aprile\,  le giornate dedicate alla solidarietà verso le popolazioni colpite dal terremoto che ha scosso il Centro Italia. Dopo il successo del mercato solidale natalizio\,  i volontari sono tornati nelle zone terremotate per acquistare direttamente sul posto norcinerie ed altri[..]
URL:https://www.wechianti.com/events/terremoto-solidarieta-villa-sesta-mercatunto-pasqua/
END:VEVENT
END:VCALENDAR