BEGIN:VCALENDAR
VERSION:2.0
PRODID:-//eventon.com NONSGML v1.0//EN
BEGIN:VEVENT
UID:69e7d75b353af
DTSTAMP:20260421T220027
DTSTART:20170513
DTEND:20170514
TZID:UTC
LOCATION:Greve in Chianti 
SUMMARY:Showcase of Italian slow style in Greve with “Rete Città Slow”
DESCRIPTION: The Italian model of “vivere slow” (living slow) is being afﬁrmed in Greve in Chianti. It aims to rediscover the pleasure of the “slow life&#8221;\,  tasting the simplicity of traditions and local production to help safegard the value and identity of the territory of origin. Greve is taking a leading[..]
URL:https://www.wechianti.com/events/rete-citta-slow-greve-chianti-la-vetrina-italiana-dello-slow-style/
END:VEVENT
END:VCALENDAR