BEGIN:VCALENDAR
VERSION:2.0
PRODID:-//eventon.com NONSGML v1.0//EN
BEGIN:VEVENT
UID:69e7904c16c3d
DTSTAMP:20260421T165716
DTSTART:20170513
DTEND:20170514
TZID:UTC
LOCATION:Greve in Chianti 
SUMMARY:Rete Città Slow\,  a Greve in Chianti la vetrina italiana dello slow style
DESCRIPTION: Da Greve in Chianti si afferma e si estende il modello italiano del vivere slow. Ritrovare il gusto della vita nella lentezza\,  assaporare la semplicità delle tradizioni e delle produzioni locali riconoscendo e salvaguardando il valore e l’identità del territorio di origine. Un ruolo da protagonista per il territorio chiantigiano[..]
URL:https://www.wechianti.com/events/rete-citta-slow-greve-chianti-la-vetrina-italiana-dello-slow-style/
END:VEVENT
END:VCALENDAR