BEGIN:VCALENDAR
VERSION:2.0
PRODID:-//eventon.com NONSGML v1.0//EN
BEGIN:VEVENT
UID:69ea8d902fa4e
DTSTAMP:20260423T232224
DTSTART:20161210
DTEND:20161211
TZID:UTC
LOCATION:Castelnuovo Berardenga 
SUMMARY:Il Natale di festa organizzato dalle Associazioni di Castelnuovo
DESCRIPTION: Aria di Natale a Castelnuovo Berardenga: Associazioni in Festa vi presenta il programma della seconda edizione di &#8220;Aspettando Natale a&#8230;Castelnuovo&#8221;\,  sabato 10 e domenica 11 dicembre\,  che quest&#8217;anno presenta tantissime novità! Laboratori per bambini a &#8220;La bottega di Geppetto&#8221;: i bambini tutti insieme potranno costruire un giocattolo di legno da[..]
URL:https://www.wechianti.com/events/natale-festa-organizzato-dalle-associazioni-castelnuovo/
END:VEVENT
END:VCALENDAR