BEGIN:VCALENDAR
VERSION:2.0
PRODID:-//eventon.com NONSGML v1.0//EN
BEGIN:VEVENT
UID:69e5f0ca05c64
DTSTAMP:20260420T112426
DTSTART:20161112
DTEND:20161126
TZID:UTC
LOCATION:Castelnuovo Berardenga 
SUMMARY:Discovering the territory of Castelnuovo Berardenga by bicycle: "CicloWine"
DESCRIPTION: “CicloWine”\,  bicycle excursions in the discovery of the territory and wines of Castelnuovo Berardenga\,   will begin on Saturday\,  November 12\,  (European Food/Wine Day). The first outing has an easy itinerary of about 10 km on mixed roads\,  ending in San Gusmè. There will be a stop at the Fattoria di[..]
URL:https://www.wechianti.com/events/alla-scoperta-del-territorio-castelnuovo-berardenga-bicicleta-ciclowine/
END:VEVENT
END:VCALENDAR