BEGIN:VCALENDAR
VERSION:2.0
PRODID:-//eventon.com NONSGML v1.0//EN
BEGIN:VEVENT
UID:69e5d5c2884ed
DTSTAMP:20260420T092906
DTSTART:20161112
DTEND:20161126
TZID:UTC
LOCATION:Castelnuovo Berardenga 
SUMMARY:Alla scoperta del territorio di Castelnuovo Berardenga in bicicletta: è "CicloWine"
DESCRIPTION: Escursioni in bicicletta alla scoperta del territorio e dei vini di Castelnuovo Berardenga: è &#8220;CicloWine&#8221;\,  che inizia sabato 12 novembre (Giornata Europa dell&#8217;Enoturismo)\,  con un itinerario facile di circa 10 km su strada mista\,  fino a San Gusmè. Sosta presso la Fattoria di Felsina. Si prosegue sabato 19 novembre sul[..]
URL:https://www.wechianti.com/events/alla-scoperta-del-territorio-castelnuovo-berardenga-bicicleta-ciclowine/
END:VEVENT
END:VCALENDAR